BEGIN:VCALENDAR
VERSION:2.0
PRODID:-//eventon.com NONSGML v1.0//EN
CALSCALE:GREGORIAN
METHOD:PUBLISH
BEGIN:VEVENT
UID:69e9066ec8b2f
DTSTAMP:20260422T173334Z
DTSTART:20260207T133400Z
DTEND:20260207T133400Z
LOCATION:
SUMMARY:เดิน-วิ่ง เพื่อน้องตาบอดพิการซ้ำซ้อนลพบุรี ครั้งที่ 8 "Lopburi Night run for the Blind 2026" (17.00 น.)
DESCRIPTION:เดิน-วิ่ง เพื่อน้องตาบ
 ดพิการซ้ำซ้อนลพบุรี ครั้ง
 ที[..]\nhttps://www.joggingandrunning.com/events/%e0%b9%80%e0%b8%94%e0%
 b8%b4%e0%b8%99-%e0%b8%a7%e0%b8%b4%e0%b9%88%e0%b8%87-%e0%b9%80%e0%b8%9e%e0%b
 8%b7%e0%b9%88%e0%b8%ad%e0%b8%99%e0%b9%89%e0%b8%ad%e0%b8%87%e0%b8%95%e0%b8%b
 2%e0%b8%9a%e0%b8%ad%e0%b8%94/
URL:https://www.joggingandrunning.com/events/%e0%b9%80%e0%b8%94%e0%b8%b4%e0%b8%99-%e0%b8%a7%e0%b8%b4%e0%b9%88%e0%b8%87-%e0%b9%80%e0%b8%9e%e0%b8%b7%e0%b9%88%e0%b8%ad%e0%b8%99%e0%b9%89%e0%b8%ad%e0%b8%87%e0%b8%95%e0%b8%b2%e0%b8%9a%e0%b8%ad%e0%b8%94/
END:VEVENT
END:VCALENDAR