BEGIN:VCALENDAR
VERSION:2.0
PRODID:-//eventon.com NONSGML v1.0//EN
CALSCALE:GREGORIAN
METHOD:PUBLISH
BEGIN:VEVENT
UID:69e63fd2a8e9c
DTSTAMP:20260420T150138Z
DTSTART:20260118T140000Z
DTEND:20260118T140000Z
LOCATION:
SUMMARY:Your Best Moments Couple Run 2026
DESCRIPTION:Your Best Moments Couple Run 2026\nhttps://www.joggingandrunnin
 g.com/events/your-best-moments-couple-run-2026/
URL:https://www.joggingandrunning.com/events/your-best-moments-couple-run-2026/
END:VEVENT
END:VCALENDAR