BEGIN:VCALENDAR
VERSION:2.0
PRODID:-//eventon.com NONSGML v1.0//EN
CALSCALE:GREGORIAN
METHOD:PUBLISH
BEGIN:VEVENT
UID:69e906626a0d3
DTSTAMP:20260422T173322Z
DTSTART:20260322T055000Z
DTEND:20260322T055000Z
LOCATION:
SUMMARY:VR RC City Run – Urban Series Season 4 สนามที่ 1  <font style="color:#FF0000">(รับจำนวน 200 คน/รูปถ่ายฟรี!)</font>
DESCRIPTION:VR RC City Run – Urban Series Season 4 สนามที่ 
 1 ([..]\nhttps://www.joggingandrunning.com/events/vr-rc-city-run-urban-seri
 es-season-4-%e0%b8%aa%e0%b8%99%e0%b8%b2%e0%b8%a1%e0%b8%97%e0%b8%b5%e0%b9%88
 -1-%e0%b8%a3%e0%b8%b1%e0%b8%9a%e0%b8%88%e0%b8%b3%e0%b8%99%e0%b8%a7%e0%b8%99
 -200/
URL:https://www.joggingandrunning.com/events/vr-rc-city-run-urban-series-season-4-%e0%b8%aa%e0%b8%99%e0%b8%b2%e0%b8%a1%e0%b8%97%e0%b8%b5%e0%b9%88-1-%e0%b8%a3%e0%b8%b1%e0%b8%9a%e0%b8%88%e0%b8%b3%e0%b8%99%e0%b8%a7%e0%b8%99-200/
END:VEVENT
END:VCALENDAR