BEGIN:VCALENDAR
VERSION:2.0
PRODID:-//eventon.com NONSGML v1.0//EN
CALSCALE:GREGORIAN
METHOD:PUBLISH
BEGIN:VEVENT
UID:69ea3f482ab61
DTSTAMP:20260423T154824Z
DTSTART:20260412T043300Z
DTEND:20260412T043300Z
LOCATION:
SUMMARY:รัตนประชานุสรณ์มินิมาราธอน 2026
DESCRIPTION:รัตนประชานุสรณ์มินิมา
 ราธอน 2026\nhttps://www.joggingandrunning.com/events/%e0%b8%a3%e0
 %b8%b1%e0%b8%95%e0%b8%99%e0%b8%9b%e0%b8%a3%e0%b8%b0%e0%b8%8a%e0%b8%b2%e0%b8
 %99%e0%b8%b8%e0%b8%aa%e0%b8%a3%e0%b8%93%e0%b9%8c%e0%b8%a1%e0%b8%b4%e0%b8%99
 %e0%b8%b4%e0%b8%a1%e0%b8%b2%e0%b8%a3/
URL:https://www.joggingandrunning.com/events/%e0%b8%a3%e0%b8%b1%e0%b8%95%e0%b8%99%e0%b8%9b%e0%b8%a3%e0%b8%b0%e0%b8%8a%e0%b8%b2%e0%b8%99%e0%b8%b8%e0%b8%aa%e0%b8%a3%e0%b8%93%e0%b9%8c%e0%b8%a1%e0%b8%b4%e0%b8%99%e0%b8%b4%e0%b8%a1%e0%b8%b2%e0%b8%a3/
END:VEVENT
END:VCALENDAR