BEGIN:VCALENDAR
VERSION:2.0
PRODID:-//eventon.com NONSGML v1.0//EN
CALSCALE:GREGORIAN
METHOD:PUBLISH
BEGIN:VEVENT
UID:69e9f8e4b106f
DTSTAMP:20260423T104804Z
DTSTART:20240223T030500Z
DTEND:20240223T030500Z
LOCATION:
SUMMARY:Central Rama 2 X Seuxphen (17:30 น.)
DESCRIPTION:Central Rama 2 X Seuxphen (17:30 น.)\nhttps://www.joggingandr
 unning.com/events/central-rama-2-x-seuxphen-1730-%e0%b8%99/
URL:https://www.joggingandrunning.com/events/central-rama-2-x-seuxphen-1730-%e0%b8%99/
END:VEVENT
END:VCALENDAR