BEGIN:VCALENDAR
VERSION:2.0
PRODID:-//eventon.com NONSGML v1.0//EN
CALSCALE:GREGORIAN
METHOD:PUBLISH
BEGIN:VEVENT
UID:69ec29f2bd385
DTSTAMP:20260425T024154Z
DTSTART:20250210T070500Z
DTEND:20250210T070500Z
LOCATION:
SUMMARY:à¸§à¸´à¹ˆà¸‡à¹€à¸›à¸´à¸”à¸Ÿà¹‰à¸² à¸—à¸µà¹ˆà¸œà¸²à¸Šà¸°à¸™à¸°à¹„à¸” à¸‹à¸µà¸‹à¸±à¹ˆà¸™ 3
DESCRIPTION:à¸§à¸´à¹ˆà¸‡à¹€à¸›à¸´à¸”à¸Ÿà¹‰à¸² à¸—à¸µà¹ˆà¸œà¸²à¸Šà¸°à¸™à¸°à¹
 „à¸” à¸‹à¸µà¸‹à¸±à¹ˆà¸™ 3\nhttps://www.joggingandrunning.com/events/%e0%b8%
 a7%e0%b8%b4%e0%b9%88%e0%b8%87%e0%b9%80%e0%b8%9b%e0%b8%b4%e0%b8%94%e0%b8%9f%
 e0%b9%89%e0%b8%b2-%e0%b8%97%e0%b8%b5%e0%b9%88%e0%b8%9c%e0%b8%b2%e0%b8%8a%e0
 %b8%b0%e0%b8%99%e0%b8%b0%e0%b9%84%e0%b8%94/
URL:https://www.joggingandrunning.com/events/%e0%b8%a7%e0%b8%b4%e0%b9%88%e0%b8%87%e0%b9%80%e0%b8%9b%e0%b8%b4%e0%b8%94%e0%b8%9f%e0%b9%89%e0%b8%b2-%e0%b8%97%e0%b8%b5%e0%b9%88%e0%b8%9c%e0%b8%b2%e0%b8%8a%e0%b8%b0%e0%b8%99%e0%b8%b0%e0%b9%84%e0%b8%94/
END:VEVENT
END:VCALENDAR