BEGIN:VCALENDAR
VERSION:2.0
PRODID:-//eventon.com NONSGML v1.0//EN
CALSCALE:GREGORIAN
METHOD:PUBLISH
BEGIN:VEVENT
UID:69e4e3c05d3b6
DTSTAMP:20260419T141632Z
DTSTART:20250324T011200Z
DTEND:20250324T011200Z
LOCATION:
SUMMARY:เดิน วิ่ง ปั่น รักสุขภาพ รักห้วยขมิ้น 2568
DESCRIPTION:เดิน วิ่ง ปั่น รักสุขภา
 พ รักห้วยขมิ้น 2568\nhttps://www.joggingandrunnin
 g.com/events/%e0%b9%80%e0%b8%94%e0%b8%b4%e0%b8%99-%e0%b8%a7%e0%b8%b4%e0%b9%
 88%e0%b8%87-%e0%b8%9b%e0%b8%b1%e0%b9%88%e0%b8%99-%e0%b8%a3%e0%b8%b1%e0%b8%8
 1%e0%b8%aa%e0%b8%b8%e0%b8%82%e0%b8%a0%e0%b8%b2%e0%b8%9e-2/
URL:https://www.joggingandrunning.com/events/%e0%b9%80%e0%b8%94%e0%b8%b4%e0%b8%99-%e0%b8%a7%e0%b8%b4%e0%b9%88%e0%b8%87-%e0%b8%9b%e0%b8%b1%e0%b9%88%e0%b8%99-%e0%b8%a3%e0%b8%b1%e0%b8%81%e0%b8%aa%e0%b8%b8%e0%b8%82%e0%b8%a0%e0%b8%b2%e0%b8%9e-2/
END:VEVENT
END:VCALENDAR