BEGIN:VCALENDAR
VERSION:2.0
PRODID:-//eventon.com NONSGML v1.0//EN
CALSCALE:GREGORIAN
METHOD:PUBLISH
BEGIN:VEVENT
UID:69ec0f9f0657c
DTSTAMP:20260425T004935Z
DTSTART:20250615T104900Z
DTEND:20250615T104900Z
LOCATION:
SUMMARY:พรหมโลกเทรล ครั้งที่ 3
DESCRIPTION:พรหมโลกเทรล ครั้งที่ 3\nh
 ttps://www.joggingandrunning.com/events/%e0%b8%9e%e0%b8%a3%e0%b8%ab%e0%b8%a
 1%e0%b9%82%e0%b8%a5%e0%b8%81%e0%b9%80%e0%b8%97%e0%b8%a3%e0%b8%a5-%e0%b8%84%
 e0%b8%a3%e0%b8%b1%e0%b9%89%e0%b8%87%e0%b8%97%e0%b8%b5%e0%b9%88-3/
URL:https://www.joggingandrunning.com/events/%e0%b8%9e%e0%b8%a3%e0%b8%ab%e0%b8%a1%e0%b9%82%e0%b8%a5%e0%b8%81%e0%b9%80%e0%b8%97%e0%b8%a3%e0%b8%a5-%e0%b8%84%e0%b8%a3%e0%b8%b1%e0%b9%89%e0%b8%87%e0%b8%97%e0%b8%b5%e0%b9%88-3/
END:VEVENT
END:VCALENDAR