BEGIN:VCALENDAR
VERSION:2.0
PRODID:-//eventon.com NONSGML v1.0//EN
CALSCALE:GREGORIAN
METHOD:PUBLISH
BEGIN:VEVENT
UID:69eba07f7930e
DTSTAMP:20260424T165527Z
DTSTART:20251228T040200Z
DTEND:20251228T040200Z
LOCATION:
SUMMARY:Thatphanom Run & Learn 2025
DESCRIPTION:Thatphanom Run & Learn 2025\nhttps://www.joggingandrunning.com/
 events/thatphanom-run-learn-2025/
URL:https://www.joggingandrunning.com/events/thatphanom-run-learn-2025/
END:VEVENT
END:VCALENDAR