BEGIN:VCALENDAR
VERSION:2.0
PRODID:-//eventon.com NONSGML v1.0//EN
CALSCALE:GREGORIAN
METHOD:PUBLISH
BEGIN:VEVENT
UID:69e905b6d4011
DTSTAMP:20260422T173030Z
DTSTART:20251123T042400Z
DTEND:20251123T042400Z
LOCATION:
SUMMARY:Rayong Mini - Half Marathon 2025
DESCRIPTION:Rayong Mini - Half Marathon 2025\nhttps://www.joggingandrunning
 .com/events/rayong-mini-half-marathon-2025/
URL:https://www.joggingandrunning.com/events/rayong-mini-half-marathon-2025/
END:VEVENT
END:VCALENDAR